BEGIN:VCALENDAR
VERSION:2.0
PRODID:-//ZERO-99//Eventi//IT
CALSCALE:GREGORIAN
METHOD:PUBLISH
BEGIN:VEVENT
UID:86248821-863a-46c5-bdbb-c1a1a28aa614@valposchiavo099.ch
DTSTAMP:20260423T124833Z
DTSTART:20260624T160000Z
DTEND:20260624T180000Z
SUMMARY:Danza - Laboratorio con Simea Cavelti
DESCRIPTION:Danza - laboratorio con con Simea Cavelti\, in residenza artistica di danza a Poschiavo.
LOCATION:riverbero\, Via da Zurcà 33\, 7742 Poschiavo
GEO:46.328926;10.057338
END:VEVENT
END:VCALENDAR