BEGIN:VCALENDAR
VERSION:2.0
PRODID:-//ZERO-99//Eventi//IT
CALSCALE:GREGORIAN
METHOD:PUBLISH
BEGIN:VEVENT
UID:8d5b844c-12c6-401b-96b0-a06bd2a88237@valposchiavo099.ch
DTSTAMP:20260422T031141Z
DTSTART:20260628T183000Z
DTEND:20260628T193000Z
SUMMARY:Canto del Canzoniere del Grigioni Italiano di Renato Maranta
DESCRIPTION:"Il Canzoniere del Grigioni italiano\nUn'occasione unica per ascoltare dal vivo una selezione dei bellissimi canti ad oggi sconosciuti del Canzoniere del Grigioni italiano di Renato Maranta
LOCATION:Bodensee-Institut für interkulturelle Bildung und Zusammenarbeit\, Via dal Cunvent 47\, 7742 Poschiavo
GEO:46.325773;10.058383
END:VEVENT
END:VCALENDAR