BEGIN:VCALENDAR
VERSION:2.0
PRODID:-//ZERO-99//Eventi//IT
CALSCALE:GREGORIAN
METHOD:PUBLISH
BEGIN:VEVENT
UID:adbba250-733b-4153-af5b-ad055ef35207@valposchiavo099.ch
DTSTAMP:20260422T061821Z
DTSTART:20260829T180000Z
DTEND:20260829T190000Z
SUMMARY:Canti del Canzoniere del Grigioni Italiano di Renato Maranta
DESCRIPTION:"Il Canzoniere del Grigioni italiano\nUn'occasione unica per ascoltare dal vivo una selezione dei bellissimi canti ad oggi sconosciuti del Canzoniere del Grigioni italiano di Renato Maranta
LOCATION:Bodensee-Institut für interkulturelle Bildung und Zusammenarbeit\, Via dal Cunvent 47\, 7742 Poschiavo
GEO:46.325773;10.058383
END:VEVENT
END:VCALENDAR